BEGIN:VCALENDAR
PRODID:-//AT Content Types//AT Event//EN
VERSION:2.0
METHOD:PUBLISH
BEGIN:VEVENT
DTSTAMP:20260419T215406Z
CREATED:20101118T042747Z
UID:ATEvent-b700ba41cb593439fff4bd5ad6c4ef6c
LAST-MODIFIED:20110404T072252Z
SUMMARY:Identity\, Identification and Media Representation in Video Game Play: An Audience Reception Study
DTSTART:20101127T103000Z
DTEND:20101127T123000Z
DESCRIPTION:Adrienne Shaw from the Annenberg School for Communication\
 , who is a visiting fellow at MICA is giving a public talk on research
  on representation in video games on 27 November 2010 at the Centre fo
 r Internet and Society in Bangalore.
LOCATION:Centre for Internet and Society\, Bangalore
CATEGORIES:Research
CONTACT:Nishant\, nishant@cis-india.org
CLASS:PUBLIC
END:VEVENT
END:VCALENDAR
