BEGIN:VCALENDAR
PRODID:-//AT Content Types//AT Event//EN
VERSION:2.0
METHOD:PUBLISH
BEGIN:VEVENT
DTSTAMP:20260420T200121Z
CREATED:20090821T062447Z
UID:ATEvent-ad3df7bba5f56fd260ae5f3fd9f312cf
LAST-MODIFIED:20110405T043414Z
SUMMARY:Children's Forum on the Internet and New Media
DTSTART:20090828T090000Z
DTEND:20090828T153000Z
DESCRIPTION:CIS\, in association with Ranga Shankara and IT for Change
 \, is conducting a workshop designed to give Voice to children's persp
 ectives on the Internet and New Media
LOCATION:Ranga Shankara\, Bangalore
CATEGORIES:Research
CONTACT:Radha\, 080- 40926283\, radha@cis-india.org
CLASS:PUBLIC
END:VEVENT
END:VCALENDAR
