BEGIN:VCALENDAR
PRODID:-//AT Content Types//AT Event//EN
VERSION:2.0
METHOD:PUBLISH
BEGIN:VEVENT
DTSTAMP:20260420T195413Z
CREATED:20090908T115305Z
UID:ATEvent-f60356bf91e7613d40fb61f0b717f685
LAST-MODIFIED:20110405T043209Z
SUMMARY:An Introduction to the Chinese Wikipedia
DTSTART:20090919T113000Z
DTEND:20090919T133000Z
DESCRIPTION:A talk at CIS by Ting Chen\, a Trustee on the Wikimedia Bo
 ard\, about the Chinese edition of Wikipedia
LOCATION:Centre for Internet and Society\, D-2 Third Floor\, Shariff Chambers\, 14 Cunningham Road\, Bangalore
CATEGORIES:Research
CONTACT:Radha Rao\, +91 80 40926283\, radha@cis-india.org
CLASS:PUBLIC
END:VEVENT
END:VCALENDAR
