BEGIN:VCALENDAR
PRODID:-//AT Content Types//AT Event//EN
VERSION:1.0
BEGIN:VEVENT
DTSTART:20091122T050000Z
DTEND:20091122T120000Z
DCREATED:20091119T083216Z
UID:ATEvent-32e00e32aae32d02b9d7de1b37db5e2a
SEQUENCE:0
LAST-MODIFIED:20110405T042719Z
SUMMARY:Experimental Economy Camp
DESCRIPTION:Experimental Economy Camp continued at the Centre for Inte
 rnet and Society\, Bangalore on Nov 22nd\, '09 from 10.30am to 5.30pm.
 
LOCATION:Centre for Internet and Society No. D2\, 3rd Floor\, Shariff Chambers 14\, Cunningham Road\, Bangalore - 560 052
PRIORITY:3
TRANSP:0
END:VEVENT
END:VCALENDAR
