BEGIN:VCALENDAR
PRODID:-//AT Content Types//AT Event//EN
VERSION:2.0
METHOD:PUBLISH
BEGIN:VEVENT
DTSTAMP:20260421T133813Z
CREATED:20090113T110702Z
UID:ATEvent-c6a6f39975cd980b1b6cd0e1b9cb9b19
LAST-MODIFIED:20110405T044110Z
SUMMARY:Fear and Gender in Public Space
DTSTART:20090116T083000Z
DTEND:20090116T103000Z
DESCRIPTION:A discussion of work on the body and the city and collabor
 ative interventions on the theme of Fear and Gender in Public Space
LOCATION:The Centre for Internet and Society\, Bangalore
CATEGORIES:Miscellaneous
CONTACT:Nishant Shah \, (+91) 080 4092 6283
URL:http://zeeniac.net/fearandgender-bangalore/schedule/ 
CLASS:PUBLIC
END:VEVENT
END:VCALENDAR
