BEGIN:VCALENDAR
PRODID:-//AT Content Types//AT Event//EN
VERSION:2.0
METHOD:PUBLISH
BEGIN:VEVENT
DTSTAMP:20260421T133421Z
CREATED:20090413T082544Z
UID:ATEvent-5202c7f773157f6e2968781d95a34562
LAST-MODIFIED:20110405T043659Z
SUMMARY:Internet\, Transparency and Politics
DTSTART:20090415T113000Z
DTEND:20090415T130000Z
DESCRIPTION:Talk by Barun Mitra
LOCATION:Centre for Internet and Society\, Bangalore
CATEGORIES:Internet Governance
CONTACT:Sanchia de Souza\, (+91) 80 4092 6283\, sanchia@cis-india.org
CLASS:PUBLIC
END:VEVENT
END:VCALENDAR
