BEGIN:VCALENDAR
PRODID:-//AT Content Types//AT Event//EN
VERSION:2.0
METHOD:PUBLISH
BEGIN:VEVENT
DTSTAMP:20260421T133144Z
CREATED:20090709T055140Z
UID:ATEvent-b901b2284d3b1abee57c3dc2e8a8f96c
LAST-MODIFIED:20110930T084035Z
SUMMARY:Pass the Packet\, Please?
DTSTART:20090717T120000Z
DTEND:20090717T133000Z
DESCRIPTION:Talk by Ashwin Jacob Mathew
LOCATION:Centre for Internet and Society\, Bangalore
CATEGORIES:Lecture
CONTACT:Sanchia de Souza\, 91-80-4092-6283\, sanchia@cis-india.org
CLASS:PUBLIC
END:VEVENT
END:VCALENDAR
