BEGIN:VCALENDAR
PRODID:-//AT Content Types//AT Event//EN
VERSION:2.0
METHOD:PUBLISH
BEGIN:VEVENT
DTSTAMP:20260420T111900Z
CREATED:20140424T110335Z
UID:ATEvent-4d9e8fae613b455eb98f556cf9d072da
LAST-MODIFIED:20140507T081254Z
SUMMARY:Tech Talk: Landscape of Wireless Communications & Electromagnetic Spectrum
DTSTART:20140428T140000Z
DTEND:20140428T170000Z
DESCRIPTION:The Centre for Internet and Society (CIS) welcomes you to 
 a talk by A. Radha Krishna on April 28\, 2014\, 2 p.m. to 5 p.m. at it
 s office in Bangalore.
LOCATION:The Centre for Internet and Society (opposite Domlur Club) and near to TERI Complex\, No.194\, 2nd C Cross\, Domlur 2nd Stage\, Bangalore 560071
CATEGORIES:Access to Knowledge, Telecom, Wikimedia, Wikipedia, Openness, Event
CONTACT:T. Vishnu Vardhan\, +91 80 4092 6283\, vishnu@cis-india.org
CLASS:PUBLIC
END:VEVENT
END:VCALENDAR
