BEGIN:VCALENDAR
PRODID:-//AT Content Types//AT Event//EN
VERSION:2.0
METHOD:PUBLISH
BEGIN:VEVENT
DTSTAMP:20260421T134053Z
CREATED:20090323T061745Z
UID:ATEvent-86b733a462945e722b4fca6e46e3b050
LAST-MODIFIED:20110405T043718Z
SUMMARY:Technology and the Mediation of Place
DTSTART:20090328T103000Z
DTEND:20090328T120000Z
DESCRIPTION:Talk by Emma Ota
LOCATION:Centre for Internet and Society\, Bangalore
CATEGORIES:Internet Governance
CONTACT:Sanchia de Souza\, (+91) 080 4092 6283 \, sanchia@cis-india.org
CLASS:PUBLIC
END:VEVENT
END:VCALENDAR
