BEGIN:VCALENDAR
PRODID:-//AT Content Types//AT Event//EN
VERSION:2.0
METHOD:PUBLISH
BEGIN:VEVENT
DTSTAMP:20260422T103723Z
CREATED:20191101T071841Z
UID:ATEvent-12abcc1c94cb42118741e55c79ee358b
LAST-MODIFIED:20191101T082403Z
SUMMARY:Cultivating India’s Cyber Defense Strategy
DTSTART:20191105T160000Z
DTEND:20191105T200000Z
DESCRIPTION:The Centre for Internet & Society is hosting this roundtab
 le discussion to identify critical vectors in India's Cyber Defense de
 bate\, and hash out next steps for a robust cyber defense agenda.
CONTACT:Pranav M B\, +91-9986961979\, pranav@cis-india.org
CLASS:PUBLIC
END:VEVENT
END:VCALENDAR
