BEGIN:VCALENDAR
PRODID:-//AT Content Types//AT Event//EN
VERSION:2.0
METHOD:PUBLISH
BEGIN:VEVENT
DTSTAMP:20260421T102259Z
CREATED:20090530T014646Z
UID:ATEvent-9db5d8210e760ac894830d0f09bab231
LAST-MODIFIED:20110405T043621Z
SUMMARY:Financial Speculation as Urban Planning
DTSTART:20090602T110000Z
DTEND:20090602T133000Z
DESCRIPTION:Talk by Prof Michael Goldman
LOCATION:Centre for Internet and Society\, No D2\, third floor\, Shariff Chambers\, 14\, Cunningham Road\, Bangalore
CATEGORIES:Research
CONTACT:Vinay Baindur\, yanivbin@gmail.com
CLASS:PUBLIC
END:VEVENT
END:VCALENDAR
