BEGIN:VCALENDAR
PRODID:-//AT Content Types//AT Event//EN
VERSION:2.0
METHOD:PUBLISH
BEGIN:VEVENT
DTSTAMP:20260422T103742Z
CREATED:20170404T084008Z
UID:ATEvent-d142e633d8ce47ec8a54f73f41f9f625
LAST-MODIFIED:20170404T120626Z
SUMMARY:Dr. Madan M. Oberoi - Digital Forensics and Cyber Investigations (Delhi\, April 07)
DTSTART:20170407T160000Z
DTEND:20170407T180000Z
DESCRIPTION:We are proud to announce that Dr. Madan M. Oberoi will be 
 the speaker at the inaugural #FirstFriday@cis_india event at the Delhi
  office. These events\, held on the first Friday of each month\, will 
 facilitate open and in-depth discussion and learning on topics crucial
  to our understanding of internet and society. The event will comprise
  of the speaker's presentation followed by an open discussion. If you 
 are joining us\, please RSVP at the soonest as we have only limited sp
 ace in our office.
LOCATION:The Centre for Internet and Society\, first floor\, B 1/8\, Hauz Khas\, New Delhi\, 110016
CATEGORIES:Cyber Security, Digital Forensics, #FirstFriday@cis_india, Internet Governance
CONTACT:Saikat Datta\, saikat@cis-india.org
CLASS:PUBLIC
END:VEVENT
END:VCALENDAR
