BEGIN:VCALENDAR
PRODID:-//AT Content Types//AT Event//EN
VERSION:1.0
BEGIN:VEVENT
DTSTART:20200206T180000Z
DTEND:20200206T203000Z
DCREATED:20200131T085952Z
UID:ATEvent-0ad95a17b26543319c582acfbfaa83a5
SEQUENCE:0
LAST-MODIFIED:20200203T111312Z
SUMMARY:How to Shut Down Internet Shutdowns
DESCRIPTION:This talk will focus on the challenges and opportunities f
 or research on internet shutdowns after the judgement of the Supreme C
 ourt in Anuradha Bhasin v. Union of India. Stepping beyond the judgeme
 nt\, there will be a wider discussion on the practice of whitelists\, 
 blocking powers of the central government.
PRIORITY:3
TRANSP:0
END:VEVENT
END:VCALENDAR
