BEGIN:VCALENDAR
PRODID:-//AT Content Types//AT Event//EN
VERSION:1.0
BEGIN:VEVENT
DTSTART:20190405T100000Z
DTEND:20190405T170000Z
DCREATED:20190207T110114Z
UID:ATEvent-8624ee49dcc1444d89d62c946147c2b9
SEQUENCE:0
LAST-MODIFIED:20190401T163854Z
SUMMARY:Internet Speech: Perspectives on Regulation and Policy
DESCRIPTION:The Centre for Internet & Society and the University of Mu
 nich (LMU)\, Germany are jointly organizing an international symposium
  at India Habitat Centre in New Delhi on April 5\, 2019
LOCATION:India Habitat Centre\, New Delhi
PRIORITY:3
TRANSP:0
END:VEVENT
END:VCALENDAR
