BEGIN:VCALENDAR
PRODID:-//AT Content Types//AT Event//EN
VERSION:1.0
BEGIN:VEVENT
DTSTART:20130225T060000Z
DTEND:20130225T080000Z
DCREATED:20130214T054027Z
UID:ATEvent-152461ec9f4b42429b5f56755b53876d
SEQUENCE:0
LAST-MODIFIED:20130214T060128Z
SUMMARY:Wikimedia Bangalore Meetup @ Indian Institute of Management\, Bangalore
DESCRIPTION:The Access to Knowledge team of the Centre for Internet & 
 Society in partnership with Wikispeed and NASSCOM is organizing meetup
  at the Indian Institute of Management (IIM)\, Bangalore on February 2
 5\, 2013 at 2.00 p.m. Vishnu Vardhan will speak on the Access to Knowl
 edge program.
LOCATION:Indian Institue of Management\, Bannerghatta Road\, Bangalore
PRIORITY:3
TRANSP:0
END:VEVENT
END:VCALENDAR
