BEGIN:VCALENDAR
PRODID:-//AT Content Types//AT Event//EN
VERSION:1.0
BEGIN:VEVENT
DTSTART:20131114T103000Z
DTEND:20131114T170000Z
DCREATED:20131112T042013Z
UID:ATEvent-a68100613a7a4f1a9facec499954b766
SEQUENCE:0
LAST-MODIFIED:20131112T042037Z
SUMMARY:Documentation and Wikipedia Contribution — A One Day Workshop
DESCRIPTION:On November 14\, the CIS-A2K team is organizing a one day 
 orientation workshop on 'Documentation and Wikipedia Contribution' at 
 the Kalinga Institute of Social Studies (KISS)\, Bhubaneswar from 10.3
 0 a.m. to 5.00 p.m.
LOCATION:Kalinga Institute of Social Studies (KISS)\, Bhubaneswar
PRIORITY:3
TRANSP:0
END:VEVENT
END:VCALENDAR
