BEGIN:VCALENDAR
PRODID:-//AT Content Types//AT Event//EN
VERSION:2.0
METHOD:PUBLISH
BEGIN:VEVENT
DTSTAMP:20260421T212304Z
CREATED:20150915T075844Z
UID:ATEvent-ce4176b165614ade9e257998401779b8
LAST-MODIFIED:20160618T181241Z
SUMMARY:Kannada Wikipedia workshop at Shree Dharmasthala Manjunatheshwara (SDM) College Ujire\, Karnataka
DTSTART:20150813T100000Z
DTEND:20150813T170000Z
DESCRIPTION:A Kannada Wikipedia workshop is being planned to be organi
 sed in Shree Dharmasthala Manjunatheshwara (SDM) College Ujire on the 
 13th August 2015. This is going to be part of the several outreach pro
 grammes in the institution.
LOCATION:Shree Dharmasthala Manjunatheshwara (SDM) College Ujire\, Karnataka
CATEGORIES:Wikimedia, Wikipedia, Workshop, Kannada Wikipedia
CONTACT:U.B. Pavanaja\, pavanaja@cis-india.org
URL:https://kn.wikipedia.org/s/1cpm
CLASS:PUBLIC
END:VEVENT
END:VCALENDAR
