BEGIN:VCALENDAR
PRODID:-//AT Content Types//AT Event//EN
VERSION:2.0
METHOD:PUBLISH
BEGIN:VEVENT
DTSTAMP:20260419T192923Z
CREATED:20150807T010351Z
UID:ATEvent-2eb9bd9d7f854498b69a06b07ce909e3
LAST-MODIFIED:20160618T181224Z
SUMMARY:Telugu Wikipedia edit-a-thon at Annamacharya library to preserve rare Telugu literature text
DTSTART:20150806T100000Z
DTEND:20150806T170000Z
DESCRIPTION:Telugu Wikipedia Community and the Centre for Internet & S
 ociety are conducting the Annamaya Library edit-a-thon on August 6\, 2
 015 at Andhra Loyola College\, Vijaywada.
LOCATION:Andhra Loyola College\, Vijaywada
CATEGORIES:Wikimedia, Wikipedia, Event, Access to Knowledge
CONTACT:Rahmanuddin Shaik\, rahim@cis-india.org
CLASS:PUBLIC
END:VEVENT
END:VCALENDAR
