BEGIN:VCALENDAR
PRODID:-//AT Content Types//AT Event//EN
VERSION:2.0
METHOD:PUBLISH
BEGIN:VEVENT
DTSTAMP:20260420T033655Z
CREATED:20131114T094453Z
UID:ATEvent-dadf3131febb4847a5b3a7ea5c9769b5
LAST-MODIFIED:20131114T101723Z
SUMMARY:Tenth Anniversary of Kannada Wikipedia
DTSTART:20131117T093000Z
DTEND:20131117T133000Z
DESCRIPTION:Kannada Wikipedia has completed 10 years. The Kannada Wiki
 pedia community will be celebrating the tenth anniversary of Kannada W
 ikpedia on Nov 17\, 2013 from 9.30 a.m. to 1.30 p.m. at H N Multimedia
  Hall\, National College\, Basavanagudi\, Bangalore. CIS-A2K is a co-s
 ponsor for the program.
LOCATION:H N Multimedia Hall\, National College\, Basavanagudi\, Bangalore
CATEGORIES:Access to Knowledge, Wikimedia, Wikipedia, Openness, Kannada Wikipedia, Event
CONTACT:Dr. U.B.Pavanaja\, pavanaja@cis-india.org
CLASS:PUBLIC
END:VEVENT
END:VCALENDAR
