BEGIN:VCALENDAR
PRODID:-//AT Content Types//AT Event//EN
VERSION:2.0
METHOD:PUBLISH
BEGIN:VEVENT
DTSTAMP:20260420T171423Z
CREATED:20170503T142356Z
UID:ATEvent-8eed84347fcc496e986701d4f977c242
LAST-MODIFIED:20170516T055145Z
SUMMARY:Global Accessibility Awareness Day 2017
DTSTART:20170518T140000Z
DTEND:20170518T193000Z
DESCRIPTION:The Centre for Internet & Society along with Prakat Soluti
 ons and Mitra Jyothi is co-hosting the Global Accessibility Awareness 
 Day in Bengaluru on May 18\, 2017.
LOCATION:NIMHANS Convention Centre
CATEGORIES:Featured, Homepage, Accessibility, Event
CONTACT:Nirmita Narasimhan\, nirmita@cis-india.org
URL:http://www.gaad.in/
CLASS:PUBLIC
END:VEVENT
END:VCALENDAR
