BEGIN:VCALENDAR
PRODID:-//AT Content Types//AT Event//EN
VERSION:1.0
BEGIN:VEVENT
DTSTART:20120314T000000Z
DTEND:20120315T093000Z
DCREATED:20111229T092253Z
UID:ATEvent-6de462bb-50b7-46c4-b0e5-2c54904f0571
SEQUENCE:0
LAST-MODIFIED:20120618T105829Z
SUMMARY:ITU Tutorial on Audiovisual Media Accessibility
DESCRIPTION:At the invitation of CIS\, in cooperation with the ITU-APT
  Foundation of India\, ITU is organising a two-day Tutorial on Audio V
 isual Media Accessibility from March 14 to 15\, 2012 at the India Inte
 rnational Centre\, New Delhi\, India. The Tutorial will be preceded by
  the fourth meeting of the Focus Group on Audio Visual Media Accessibi
 lity (FG AVA) on March 13\, 2012. This meeting will take place at the 
 same venue and will also be hosted by CIS\, in cooperation with the IT
 U-APT Foundation of India.
LOCATION:India International Centre\, New Delhi
PRIORITY:3
TRANSP:0
END:VEVENT
END:VCALENDAR
