BEGIN:VCALENDAR
PRODID:-//AT Content Types//AT Event//EN
VERSION:2.0
METHOD:PUBLISH
BEGIN:VEVENT
DTSTAMP:20260422T115831Z
CREATED:20100222T121936Z
UID:ATEvent-eedfbfe2d3ac7c60392bfac8a3b4e696
LAST-MODIFIED:20110405T041317Z
SUMMARY:Community Informatics: Successfully Applying Information and Communications Technologies as a Support to Local Economic and Social Development
DTSTART:20100225T113000Z
DTEND:20100225T133000Z
DESCRIPTION:Dr. Gurstein will present a talk on the current state of d
 evelopment in Community Informatics and facilitate a broader discussio
 n on community based ICTs for local development and community empowerm
 ent as are currently applied in India and worldwide.
LOCATION:CIS\, Bangalore
CATEGORIES:Internet Governance
CLASS:PUBLIC
END:VEVENT
END:VCALENDAR
