BEGIN:VCALENDAR
PRODID:-//AT Content Types//AT Event//EN
VERSION:2.0
METHOD:PUBLISH
BEGIN:VEVENT
DTSTAMP:20260421T081731Z
CREATED:20140224T014300Z
UID:ATEvent-232933f8879a41cf9b9475e905c8980d
LAST-MODIFIED:20140228T053615Z
SUMMARY:Counter Surveillance Panel: DiscoTech & Hackathon
DTSTART:20140301T090000Z
DTEND:20140301T170000Z
DESCRIPTION:We invite you to a Counter Surveillance DiscoTech and Hack
 athon at the Centre for Internet and Society in Bangalore on Saturday\
 , March 1\, 2014 (9.00 a.m. to 5.00 p.m.). The event is being co-organ
 ized by the Centre for Internet and Society in tandem with the MIT Cen
 tre for Civic Media Co-Design Lab\, with support from members of Tacti
 cal Technology Collective\, Hackteria.org and Srishti School of Art De
 sign and Technology. Registrations begin at 9.00 a.m. The event shall 
 close with a featured talk by renown information activist and maker la
 b innovator Smari McCarthy\, titled "Privacy for Humanity" at 5.00 p.m
 .
LOCATION:The Centre for Internet and Society (opposite Domlur Club) and near to TERI Complex\, No.194\, 2nd C Cross\, Domlur 2nd Stage\, Bangalore 560071
CATEGORIES:Surveillance, Event, Internet Governance, Privacy
CONTACT:Sharath Chandra Ram\, sharath@cis-india.org
URL:http://codesign.mit.edu/discotechs/
CLASS:PUBLIC
END:VEVENT
END:VCALENDAR
