BEGIN:VCALENDAR
PRODID:-//AT Content Types//AT Event//EN
VERSION:2.0
METHOD:PUBLISH
BEGIN:VEVENT
DTSTAMP:20260421T082429Z
CREATED:20091014T113943Z
UID:ATEvent-c5b4ac9129e0b2c4e5b0126036ae96ca
LAST-MODIFIED:20111021T095951Z
SUMMARY:The South African Telecommunications Sector: Poised for Change
DTSTART:20091019T093000Z
DTEND:20091029T103000Z
DESCRIPTION:CIS in collaboration with the LINK Centre\, Graduate Schoo
 l of Public and Development Management,\nUniversity of the Witwatersra
 nd\, South Africa and in association with different institutions acros
 s India is organizing a Lecture Tour by Sagie Chetty from 19th Oct to 
 30th Oct.
LOCATION:IIT-M\, IIT-B\, IIIT-B\, IGNOU\, NISTADS\, CCMG - Jamia Millia Islamia
CATEGORIES:Telecom
CONTACT:Radha\, 080-40926283\, radha@cis-india.org
CLASS:PUBLIC
END:VEVENT
END:VCALENDAR
