BEGIN:VCALENDAR
PRODID:-//AT Content Types//AT Event//EN
VERSION:1.0
BEGIN:VEVENT
DTSTART:20131214T083000Z
DTEND:20131215T170000Z
DCREATED:20131211T100523Z
UID:ATEvent-9de8978c8c274b70b287d9ed0e7fad47
SEQUENCE:0
LAST-MODIFIED:20220207T152900Z
SUMMARY:Legal Issues pertaining to Cloud Computing
DESCRIPTION:The Law and Technology Society of National Law School of I
 ndia University\, Bangalore is organizing the 6th edition of its flags
 hip conference ‘Consilience’ on December 14 and 15\, 2013 at NLSIU
  Campus\, Bangalore. The Centre for Internet and Society is supporting
  this event.
LOCATION:NLSIU Campus\, Bangalore
PRIORITY:3
TRANSP:0
END:VEVENT
END:VCALENDAR
