BEGIN:VCALENDAR
PRODID:-//AT Content Types//AT Event//EN
VERSION:1.0
BEGIN:VEVENT
DTSTART:20100426T043000Z
DTEND:20100428T203000Z
DCREATED:20100419T144632Z
UID:ATEvent-cbf983c6b8c8e72c93859ee6374f0944
SEQUENCE:0
LAST-MODIFIED:20151005T151023Z
SUMMARY:Third Maps for Making Change Workshop: Using Geographical Mapping Techniques to Support Struggles for Social Justice in India
DESCRIPTION:The third and final workshop in the Maps for Making Change
  project will take place at Visthar\, in Bangalore\, from 26 until 28 
 April.  During this workshop\, participants will fine-tune and polish 
 their maps\; explore ways to connect with broader movements and dissem
 inate their maps among target audiences\; and reflect on their own exp
 eriences so as to distill learnings that can help us decide where to g
 o from here. While participation in the workshop is closed\, the works
 hop will end with a public event at the CIS office on 28 April\, from 
 4 pm onwards\, open to everybody (more information to follow soon).  I
 f you\, too\, share our interest in mapping for social change\, then d
 o join us there.
LOCATION:Visthar\, Bangalore
PRIORITY:3
TRANSP:0
END:VEVENT
END:VCALENDAR
