BEGIN:VCALENDAR
PRODID:-//AT Content Types//AT Event//EN
VERSION:2.0
METHOD:PUBLISH
BEGIN:VEVENT
DTSTAMP:20260420T171816Z
CREATED:20130503T162149Z
UID:ATEvent-afefea695df74fed94a90fb9be6d4b90
LAST-MODIFIED:20140225T091558Z
SUMMARY:Celebrating 5 Years of CIS
DTSTART:20130520T020000Z
DTEND:20130523T120000Z
DESCRIPTION:The Centre for Internet & Society (CIS) is celebrating 5 y
 ears of its existence with an exhibition showcasing its activities and
  accomplishments. The exhibition will be held at its offices in Bangal
 ore and Delhi from May 20 to 23\, 2013.
LOCATION:The Centre for Internet & Society\, Bangalore\, No. 194\, 2nd 'C' Cross\, Domlur\, IInd Stage - 560071 (Near Domlur Club and TERI Complex)
CATEGORIES:Access to Knowledge, Digital Natives, Telecom, Accessibility, Internet Governance, Openness, Researchers at Work, Event
CONTACT:Prasad Krishna\, prasad@cis-india.org
CLASS:PUBLIC
END:VEVENT
END:VCALENDAR
