BEGIN:VCALENDAR
PRODID:-//AT Content Types//AT Event//EN
VERSION:1.0
BEGIN:VEVENT
DTSTART:20140806T103000Z
DTEND:20140806T120000Z
DCREATED:20140729T070755Z
UID:ATEvent-fedefff5ccbb4586a9098fab7f4b955c
SEQUENCE:0
LAST-MODIFIED:20140729T070804Z
SUMMARY:Multi-stakeholder Internet Governance: The Way Ahead
DESCRIPTION:The Centre for Internet and Society (CIS) in partnership w
 ith Software Freedom Law Centre (SFLC.in) is organizing a workshop "Mu
 lti-stakeholder Internet Governance: The Way Ahead" on August 6\, 2014
 \, 10.30 a.m. to 12.00 p.m.\, at during the APrIGF event to be held at
  Crown Plaza\, Greater Noida.
LOCATION:Crown Plaza\, Greater Noida
PRIORITY:3
TRANSP:0
END:VEVENT
END:VCALENDAR
