BEGIN:VCALENDAR
PRODID:-//AT Content Types//AT Event//EN
VERSION:2.0
METHOD:PUBLISH
BEGIN:VEVENT
DTSTAMP:20260419T183954Z
CREATED:20171121T133920Z
UID:ATEvent-6d24aa0584d94b7ca2cefa509bdeab17
LAST-MODIFIED:20171205T142416Z
SUMMARY:National Privacy Workshop
DTSTART:20171209T103000Z
DTEND:20171209T170000Z
DESCRIPTION:Centre for Internet & Society is organizing a round-table 
 to discuss the potential impact of numerous policy developments with w
 ide ranging implications for recognition and governance of privacy in 
 India. The round-table will be held on December 9\, 2017 at India Inte
 rnational Centre in New Delhi\, 10.30 a.m. to 5.00 p.m.
LOCATION:India International Centre\, New Delhi
CATEGORIES:Event, Internet Governance, Privacy
CONTACT:Elonnai Hickok\, +91 80 4092 6283 \, elonnai@cis-india.org
CLASS:PUBLIC
END:VEVENT
END:VCALENDAR
