BEGIN:VCALENDAR
PRODID:-//AT Content Types//AT Event//EN
VERSION:2.0
METHOD:PUBLISH
BEGIN:VEVENT
DTSTAMP:20260421T082510Z
CREATED:20171028T154033Z
UID:ATEvent-f16662fa6f73444dbc97984f6cddb071
LAST-MODIFIED:20180201T140436Z
SUMMARY:Roundtable on Enhancing Indian Cyber Security through Multi-Stakeholder Cooperation
DTSTART:20171104T103000Z
DTEND:20171104T170000Z
DESCRIPTION:A closed door round-table on enhancing Indian cyber securi
 ty is being organized on 4 November 2017 at Indian Islamic Centre\, Lo
 dhi Road in New Delhi.
CATEGORIES:Cyber Security, Event, Internet Governance
CONTACT:Pranav\, pranav@cis-india.org
CLASS:PUBLIC
END:VEVENT
END:VCALENDAR
