BEGIN:VCALENDAR
PRODID:-//AT Content Types//AT Event//EN
VERSION:1.0
BEGIN:VEVENT
DTSTART:20150116T100000Z
DTEND:20150116T133000Z
DCREATED:20150115T140048Z
UID:ATEvent-0d2c1ba22f664684aa6fa4a6c35a2dd8
SEQUENCE:0
LAST-MODIFIED:20150115T140716Z
SUMMARY:Workshop on Digital Security for Journalists
DESCRIPTION:The Foundation for Media Professionals and the Centre for 
 Internet and Society (CIS) are jointly hosting a workshop on 'Digital 
 Security for Journalists' in New Delhi on January 16\, 2015.
LOCATION:Indian Express Building\, 9-10 Bahadur Shah Zafar Marg\, New Delhi
PRIORITY:3
TRANSP:0
END:VEVENT
END:VCALENDAR
