BEGIN:VCALENDAR
PRODID:-//AT Content Types//AT Event//EN
VERSION:1.0
BEGIN:VEVENT
DTSTART:20150913T100000Z
DTEND:20150913T170000Z
DCREATED:20150923T122625Z
UID:ATEvent-3573dd93dfd84b14a7af769209a994cb
SEQUENCE:0
LAST-MODIFIED:20160618T175929Z
SUMMARY:Seminar on "Empowering Marathi Schools"\, Pune
DESCRIPTION:A full day seminar is scheduled to be organised to address
  the issue of the gradual decline of Marathi schools in Maharashtra. C
 IS-A2K member Abhinav Garule will be attending the event to share how 
 teachers could encourage students to contribute to Marathi Wikipedia.
LOCATION:S. M. Joshi Sabhagriha\, Pune
PRIORITY:3
TRANSP:0
END:VEVENT
END:VCALENDAR
